Workbook

Sheet 入力方法
A1: 入 力 方 法
A4: １．はじめに、「実績報告書」のシートから入力を開始してください。
A6: ２．「実績報告書」の日付、代表者（団体名、住所、氏名、電話）を入力してください。
A8: ３．回収の実施日と数量を入力します。（合計欄は自動計算されます。）
A10: ４．次に、「請求書」のシートの入力に移ります。
A12: ５．振込先欄の金融機関欄に預金種別・銀行名・支店名を入力してください。
A14: ６．口座番号、名義欄を入力してください。
A16: ７．「請求書」の２実績報告欄および３奨励補助金交付請求額欄は自動計算されます。
A18: ８．「実績報告書」および「請求書」を印刷・押印して、添付書類（引取り証等）とともに
A19: 環境課へ申請してください。
A22: ＊申請期限日
A23: ４月から ６月までの実施分 | D23: ⇒ | E23: ７月１０日まで
A24: ７月から ９月までの実施分 | D24: ⇒ | E24: １０月１０日まで
A25: １０月から１２月までの実施分 | D25: ⇒ | E25: １月１０日まで
A26: １月から ３月までの実施分 | D26: ⇒ | E26: ３月３１日まで
A27: 【実施月ごとの申請期限日を過ぎて申請されたものは、補助対象外となります。】

Sheet 実績報告書
A1: 様式第２号（第６条関係）
A2: 吉川市資源回収実績報告書
A3: 平成 年 月 日
A5: （あて先）吉川市長
N7: 団体名
L8: 代表者 | N8: 住 所
N9: 氏 名 | W9: ㊞
N10: 電 話
A12: 次のとおり資源回収の実績を報告します。
A14: 実施日 | C14: 古 紙 類 | R14: 衣 類 | U14: 合 計
C15: 新 聞 | F15: 雑 誌 | I15: 段ボール | L15: 紙パック | O15: 雑 が み
A16: ／ | E16: kg | H16: kg | K16: kg | N16: kg | Q16: kg | T16: kg | U16: =R16+O16+L16+I16+F16+C16 -> 0 | W16: kg
A17: ／ | E17: kg | H17: kg | K17: kg | N17: kg | Q17: kg | T17: kg | U17: =R17+O17+L17+I17+F17+C17 -> 0 | W17: kg
A18: ／ | E18: kg | H18: kg | K18: kg | N18: kg | Q18: kg | T18: kg | U18: =R18+O18+L18+I18+F18+C18 -> 0 | W18: kg
A19: ／ | E19: kg | H19: kg | K19: kg | N19: kg | Q19: kg | T19: kg | U19: =R19+O19+L19+I19+F19+C19 -> 0 | W19: kg
A20: ／ | E20: kg | H20: kg | K20: kg | N20: kg | Q20: kg | T20: kg | U20: =R20+O20+L20+I20+F20+C20 -> 0 | W20: kg
A21: ／ | E21: kg | H21: kg | K21: kg | N21: kg | Q21: kg | T21: kg | U21: =R21+O21+L21+I21+F21+C21 -> 0 | W21: kg
A22: ／ | E22: kg | H22: kg | K22: kg | N22: kg | Q22: kg | T22: kg | U22: =R22+O22+L22+I22+F22+C22 -> 0 | W22: kg
A23: ／ | E23: kg | H23: kg | K23: kg | N23: kg | Q23: kg | T23: kg | U23: =R23+O23+L23+I23+F23+C23 -> 0 | W23: kg
A24: ／ | E24: kg | H24: kg | K24: kg | N24: kg | Q24: kg | T24: kg | U24: =R24+O24+L24+I24+F24+C24 -> 0 | W24: kg
A25: ／ | E25: kg | H25: kg | K25: kg | N25: kg | Q25: kg | T25: kg | U25: =R25+O25+L25+I25+F25+C25 -> 0 | W25: kg
A26: 合 計 | C26: =SUM(C16:D25) -> 0 | E26: kg | F26: =SUM(F16:G25) -> 0 | H26: kg | I26: =SUM(I16:J25) -> 0 | K26: kg | L26: =SUM(L16:M25) -> 0 | N26: kg | O26: =SUM(O16:P25) -> 0 | Q26: kg | R26: =SUM(R16:S25) -> 0 | T26: kg | U26: =SUM(U16:V25) -> 0 | W26: kg
A28: ＊ 団体名、業者名、引取日、引取品目、引取数量及び買取金額が記載されている引 取業者が発行する資源を引き取ったことを証する書面を添付すること。

Sheet 請求書
A1: 様式第１号（第６条、第８条関係）
A2: 吉川市資源回収奨励補助金交付申請書兼請求書
A3: =実績報告書!A3 -> 平成 年 月 日
A5: （あて先）吉川市長
Q7: 団体名 | T7: =実績報告書!P7 -> 0
N8: 代表者 | Q8: 住 所 | T8: =実績報告書!P8 -> 0
Q9: 氏 名 | T9: =実績報告書!P9 -> 0 | AC9: ㊞
Q10: 電 話 | T10: =実績報告書!P10 -> 0
A12: 補助金等の交付手続等に関する規則第４条第１項の規定により、資源回収奨励補助金の交付について申請するとともに請求します。
A15: １ 振込先
A16: 金融機関 | L16: 銀行・信用金庫・農協 | AA16: 店
A17: 預金種別 | F17: □ 普通 □ 当座 | L17: 口座番号
A18: 口座名義 | F18: ﾌﾘｶﾞﾅ
F19: 名 義
A21: ２ 資源回収実績
A22: 品 目 | I22: 数 量 | Q22: 単 価 | V22: 金 額
A23: 古 紙 類 | C23: 新 聞 | I23: =(実績報告書!C26) -> 0 | O23: ㎏ | Q23: ×４円 | V23: =I23*4 -> 0 | AB23: 円
C24: 雑 誌 | I24: =(実績報告書!F26) -> 0 | O24: ㎏ | Q24: ×４円 | V24: =I24*4 -> 0 | AB24: 円
C25: 段 ボ ー ル | I25: =(実績報告書!I26) -> 0 | O25: ㎏ | Q25: ×４円 | V25: =I25*4 -> 0 | AB25: 円
C26: 紙 パ ッ ク | I26: =(実績報告書!L26) -> 0 | O26: ㎏ | Q26: ×６円 | V26: =I26*6 -> 0 | AB26: 円
C27: 雑 が み | I27: =(実績報告書!O26) -> 0 | O27: ㎏ | Q27: ×６円 | V27: =I27*6 -> 0 | AB27: 円
A28: 衣 類 | I28: =(実績報告書!R26) -> 0 | O28: ㎏ | Q28: ×４円 | V28: =I28*4 -> 0 | AB28: 円
A29: 合 計 数 量 | I29: =SUM(I23:I28) -> 0 | O29: ㎏ | Q29: 合計金額 | V29: =SUM(V23:V28) -> 0 | AB29: 円
A31: ３ 奨励補助金交付請求額
A32: 請 求 額 | G32: 百 十 万 千 百 十 円
G33: =V29 -> 0
A35: ＜吉川市記入欄＞
A36: 回収量 | K36: kg | M36: 奨励補助金交付額 | AA36: 円
